BEGIN:VCALENDAR
VERSION:2.0
PRODID:-//Музей-Резиденция Арткоммуналка. Ерофеев и другие - ECPv6.2.0.1//NONSGML v1.0//EN
CALSCALE:GREGORIAN
METHOD:PUBLISH
X-WR-CALNAME:Музей-Резиденция Арткоммуналка. Ерофеев и другие
X-ORIGINAL-URL:https://artkommunalka.com
X-WR-CALDESC:Мероприятия для Музей-Резиденция Арткоммуналка. Ерофеев и другие
REFRESH-INTERVAL;VALUE=DURATION:PT1H
X-Robots-Tag:noindex
X-PUBLISHED-TTL:PT1H
BEGIN:VTIMEZONE
TZID:Europe/Moscow
BEGIN:STANDARD
TZOFFSETFROM:+0300
TZOFFSETTO:+0300
TZNAME:MSK
DTSTART:20260101T000000
END:STANDARD
END:VTIMEZONE
BEGIN:VEVENT
DTSTART;TZID=Europe/Moscow:20260225T080000
DTEND;TZID=Europe/Moscow:20260225T170000
DTSTAMP:20260422T140141
CREATED:20260203T074531Z
LAST-MODIFIED:20260203T074656Z
UID:10001456-1772006400-1772038800@artkommunalka.com
SUMMARY:Одиссея
DESCRIPTION:
URL:https://artkommunalka.com/event/odisseya/2026-02-25/
CATEGORIES:Экскурсии
ATTACH;FMTTYPE=image/png:https://artkommunalka.com/wp-content/uploads/2026/02/artkommunalka.png
END:VEVENT
END:VCALENDAR