BEGIN:VCALENDAR
VERSION:2.0
PRODID:-//Музей-Резиденция Арткоммуналка. Ерофеев и другие - ECPv6.2.0.1//NONSGML v1.0//EN
CALSCALE:GREGORIAN
METHOD:PUBLISH
X-WR-CALNAME:Музей-Резиденция Арткоммуналка. Ерофеев и другие
X-ORIGINAL-URL:https://artkommunalka.com
X-WR-CALDESC:Мероприятия для Музей-Резиденция Арткоммуналка. Ерофеев и другие
REFRESH-INTERVAL;VALUE=DURATION:PT1H
X-Robots-Tag:noindex
X-PUBLISHED-TTL:PT1H
BEGIN:VTIMEZONE
TZID:Europe/Moscow
BEGIN:STANDARD
TZOFFSETFROM:+0300
TZOFFSETTO:+0300
TZNAME:MSK
DTSTART:20240101T000000
END:STANDARD
END:VTIMEZONE
BEGIN:VEVENT
DTSTART;TZID=Europe/Moscow:20240803T190000
DTEND;TZID=Europe/Moscow:20240803T203000
DTSTAMP:20260425T230006
CREATED:20240731T054418Z
LAST-MODIFIED:20240731T054418Z
UID:10000307-1722711600-1722717000@artkommunalka.com
SUMMARY:«РЕКОНСТРУКЦИЯ ПАМЯТИ О ТОМ\, ЧЕГО С НАМИ НЕ СЛУЧАЛОСЬ»
DESCRIPTION:
URL:https://artkommunalka.com/event/rekonstrukcziya-pamyati-o-tom-chego-s-nami-ne-sluchalos/
CATEGORIES:Встреча
ATTACH;FMTTYPE=image/png:https://artkommunalka.com/wp-content/uploads/2024/06/master-klass.png
END:VEVENT
END:VCALENDAR