BEGIN:VCALENDAR
VERSION:2.0
PRODID:-//Музей-Резиденция Арткоммуналка. Ерофеев и другие - ECPv6.2.0.1//NONSGML v1.0//EN
CALSCALE:GREGORIAN
METHOD:PUBLISH
X-WR-CALNAME:Музей-Резиденция Арткоммуналка. Ерофеев и другие
X-ORIGINAL-URL:https://artkommunalka.com
X-WR-CALDESC:Мероприятия для Музей-Резиденция Арткоммуналка. Ерофеев и другие
REFRESH-INTERVAL;VALUE=DURATION:PT1H
X-Robots-Tag:noindex
X-PUBLISHED-TTL:PT1H
BEGIN:VTIMEZONE
TZID:Europe/Moscow
BEGIN:STANDARD
TZOFFSETFROM:+0300
TZOFFSETTO:+0300
TZNAME:MSK
DTSTART:20240101T000000
END:STANDARD
END:VTIMEZONE
BEGIN:VEVENT
DTSTART;TZID=Europe/Moscow:20240504T183000
DTEND;TZID=Europe/Moscow:20240504T183000
DTSTAMP:20260424T151341
CREATED:20240502T064748Z
LAST-MODIFIED:20240502T064828Z
UID:10000298-1714847400-1714847400@artkommunalka.com
SUMMARY:Верлибры про воробья\, жену\, одиночество и прочее…
DESCRIPTION:
URL:https://artkommunalka.com/event/verlibry-pro-vorobya-zhenu-odinochestvo-i-prochee/
CATEGORIES:Встреча
ATTACH;FMTTYPE=image/png:https://artkommunalka.com/wp-content/uploads/2024/03/vstrecha.png
END:VEVENT
END:VCALENDAR