BEGIN:VCALENDAR
VERSION:2.0
PRODID:-//Музей-Резиденция Арткоммуналка. Ерофеев и другие - ECPv6.2.0.1//NONSGML v1.0//EN
CALSCALE:GREGORIAN
METHOD:PUBLISH
X-ORIGINAL-URL:https://artkommunalka.com
X-WR-CALDESC:Мероприятия для Музей-Резиденция Арткоммуналка. Ерофеев и другие
REFRESH-INTERVAL;VALUE=DURATION:PT1H
X-Robots-Tag:noindex
X-PUBLISHED-TTL:PT1H
BEGIN:VTIMEZONE
TZID:Europe/Moscow
BEGIN:STANDARD
TZOFFSETFROM:+0300
TZOFFSETTO:+0300
TZNAME:MSK
DTSTART:20240101T000000
END:STANDARD
END:VTIMEZONE
BEGIN:VEVENT
DTSTART;TZID=Europe/Moscow:20240427T183000
DTEND;TZID=Europe/Moscow:20240427T203000
DTSTAMP:20260424T115425
CREATED:20240424T051556Z
LAST-MODIFIED:20240424T051556Z
UID:10000297-1714242600-1714249800@artkommunalka.com
SUMMARY:«ЭТОТ ГОРОД СВИДАНИЙ\, НЕСБЫВШИХСЯ ГУБ И РЕЧЕЙ…»
DESCRIPTION:
URL:https://artkommunalka.com/event/etot-gorod-svidanij-nesbyvshihsya-gub-i-rechej/
CATEGORIES:Встреча
ATTACH;FMTTYPE=image/png:https://artkommunalka.com/wp-content/uploads/2024/03/vstrecha.png
END:VEVENT
END:VCALENDAR