BEGIN:VCALENDAR
VERSION:2.0
PRODID:-//Музей-Резиденция Арткоммуналка. Ерофеев и другие - ECPv6.2.0.1//NONSGML v1.0//EN
CALSCALE:GREGORIAN
METHOD:PUBLISH
X-ORIGINAL-URL:https://artkommunalka.com
X-WR-CALDESC:Мероприятия для Музей-Резиденция Арткоммуналка. Ерофеев и другие
REFRESH-INTERVAL;VALUE=DURATION:PT1H
X-Robots-Tag:noindex
X-PUBLISHED-TTL:PT1H
BEGIN:VTIMEZONE
TZID:Europe/Moscow
BEGIN:STANDARD
TZOFFSETFROM:+0300
TZOFFSETTO:+0300
TZNAME:MSK
DTSTART:20240101T000000
END:STANDARD
END:VTIMEZONE
BEGIN:VEVENT
DTSTART;TZID=Europe/Moscow:20240330T183000
DTEND;TZID=Europe/Moscow:20240330T200000
DTSTAMP:20260423T230134
CREATED:20240327T054123Z
LAST-MODIFIED:20240327T054123Z
UID:10000294-1711823400-1711828800@artkommunalka.com
SUMMARY:THE KOLOMNIST. Кураторская экскурсия и встреча с автором проекта — Александром Дубровским.
DESCRIPTION:
URL:https://artkommunalka.com/event/the-kolomnist-kuratorskaya-ekskursiya-i-vstrecha-s-avtorom-proekta-aleksandrom-dubrovskim/
CATEGORIES:Экскурсии
ATTACH;FMTTYPE=image/png:https://artkommunalka.com/wp-content/uploads/2024/03/vstrecha.png
END:VEVENT
END:VCALENDAR