BEGIN:VCALENDAR
VERSION:2.0
PRODID:-//Музей-Резиденция Арткоммуналка. Ерофеев и другие - ECPv6.2.0.1//NONSGML v1.0//EN
CALSCALE:GREGORIAN
METHOD:PUBLISH
X-ORIGINAL-URL:https://artkommunalka.com
X-WR-CALDESC:Мероприятия для Музей-Резиденция Арткоммуналка. Ерофеев и другие
REFRESH-INTERVAL;VALUE=DURATION:PT1H
X-Robots-Tag:noindex
X-PUBLISHED-TTL:PT1H
BEGIN:VTIMEZONE
TZID:Europe/Moscow
BEGIN:STANDARD
TZOFFSETFROM:+0300
TZOFFSETTO:+0300
TZNAME:MSK
DTSTART:20240101T000000
END:STANDARD
END:VTIMEZONE
BEGIN:VEVENT
DTSTART;TZID=Europe/Moscow:20240315T080000
DTEND;TZID=Europe/Moscow:20240315T170000
DTSTAMP:20260423T092842
CREATED:20240310T172254Z
LAST-MODIFIED:20240320T065020Z
UID:10000290-1710489600-1710522000@artkommunalka.com
SUMMARY:Спектакль «Лишние (вещи)»
DESCRIPTION:
URL:https://artkommunalka.com/event/spektakl-lishnie-veshhi/
ATTACH;FMTTYPE=image/png:https://artkommunalka.com/wp-content/uploads/2024/03/spektakl.png
END:VEVENT
END:VCALENDAR