BEGIN:VCALENDAR
VERSION:2.0
PRODID:-//Музей-Резиденция Арткоммуналка. Ерофеев и другие - ECPv6.2.0.1//NONSGML v1.0//EN
CALSCALE:GREGORIAN
METHOD:PUBLISH
X-ORIGINAL-URL:https://artkommunalka.com
X-WR-CALDESC:Мероприятия для Музей-Резиденция Арткоммуналка. Ерофеев и другие
REFRESH-INTERVAL;VALUE=DURATION:PT1H
X-Robots-Tag:noindex
X-PUBLISHED-TTL:PT1H
BEGIN:VTIMEZONE
TZID:Europe/Moscow
BEGIN:STANDARD
TZOFFSETFROM:+0300
TZOFFSETTO:+0300
TZNAME:MSK
DTSTART:20240101T000000
END:STANDARD
END:VTIMEZONE
BEGIN:VEVENT
DTSTART;TZID=Europe/Moscow:20240308T080000
DTEND;TZID=Europe/Moscow:20240308T170000
DTSTAMP:20260422T141054
CREATED:20240306T163235Z
LAST-MODIFIED:20240306T163300Z
UID:10000286-1709884800-1709917200@artkommunalka.com
SUMMARY:«Коломенский конструктивизм»
DESCRIPTION:
URL:https://artkommunalka.com/event/kolomenskij-konstruktivizm-3/
CATEGORIES:Экскурсии
ATTACH;FMTTYPE=image/png:https://artkommunalka.com/wp-content/uploads/2022/11/ekskursiya.png
END:VEVENT
END:VCALENDAR